BEGIN:VCALENDAR
VERSION:2.0
PRODID:-//ANS//Meeting//EN
BEGIN:VEVENT
UID:ANS_MEETING_398
DTSTAMP:20260423T195042Z
DTSTART;VALUE=DATE:20260531
DTEND;VALUE=DATE:20260604
SEQUENCE:0
SUMMARY:2026 ANS Annual Conference
LOCATION:Sheraton Denver, Denver, CO
END:VEVENT
END:VCALENDAR
