BEGIN:VCALENDAR
VERSION:2.0
PRODID:-//ANS//Webinar//EN
BEGIN:VEVENT
UID:ANS_MEETING_EVENT_
DTSTAMP:20260424T095622Z
DTSTART:20260603T210000Z
DTEND:20260603T211500Z
LAST-MODIFIED:20260331T200006Z
CLASS:PUBLIC
SUMMARY:Coffee Break from 3:00-3:15 pm
DESCRIPTION:Breaks and Meals\n\n2026 ANS Annual Conference\n\nRead More: https://www.ans.org/meetings/ac2026/calendar/event-2044/\n\n<p>Take a refreshing pause to refuel and reconnect with fellow attendees, exhibitors, and industry professionals. Grab a cup of coffee and a light snack while you stroll the exhibit floor, catch up on conversations, and spark new connections in a relaxed setting just steps from the conference action. It’s the perfect way to recharge between sessions and make the most of your time exploring innovations and opportunities in the nuclear community.</p>
END:VEVENT
END:VCALENDAR
