BEGIN:VCALENDAR
VERSION:2.0
PRODID:-//ANS//Webinar//EN
BEGIN:VEVENT
UID:ANS_MEETING_EVENT_
DTSTAMP:20260424T095621Z
DTSTART:20260603T174500Z
DTEND:20260603T191500Z
LAST-MODIFIED:20260226T194612Z
CLASS:PUBLIC
SUMMARY:Lunch on your own
DESCRIPTION:Breaks and Meals\n\n2026 ANS Annual Conference\n\nRead More: https://www.ans.org/meetings/ac2026/calendar/event-2043/\n\n<p>Choose from a variety of nearby restaurants and eateries in downtown Denver. From quick bites to sit‑down meals, there’s something for every taste and schedule. A helpful dining guide listing recommended options around the conference hotel and area is available here: <a data-feathr-click-track="true" data-feathr-link-aids="609c36026083106ab99a7bec" href="https://www.ans.org/meetings/ac2026/diningguide/" rel="nofollow noopener noreferrer" target="_blank">2026 ANS Annual Conference Dining Guide</a>.</p>
END:VEVENT
END:VCALENDAR
