BEGIN:VCALENDAR
VERSION:2.0
PRODID:-//ANS//Webinar//EN
BEGIN:VEVENT
UID:ANS_MEETING_EVENT_
DTSTAMP:20260424T095551Z
DTSTART:20260602T180000Z
DTEND:20260602T190000Z
LAST-MODIFIED:20260331T200032Z
CLASS:PUBLIC
SUMMARY:Lunch
DESCRIPTION:Breaks and Meals\n\n2026 ANS Annual Conference\n\nRead More: https://www.ans.org/meetings/ac2026/calendar/event-2039/\n\n<p>Enjoy a convenient and vibrant lunch right in the heart of the Expo Hall. This is your chance to grab a meal while exploring exhibits, connecting with industry professionals, and networking with fellow attendees in a lively, informal setting. Whether you’re discussing innovations with exhibitors, catching up with colleagues, or meeting new contacts, lunch in the Expo Hall keeps you energized and engaged between technical sessions and plenary events.</p>
END:VEVENT
END:VCALENDAR
