BEGIN:VCALENDAR
VERSION:2.0
PRODID:-//ANS//Webinar//EN
BEGIN:VEVENT
UID:ANS_MEETING_EVENT_
DTSTAMP:20260420T145106Z
DTSTART:20260601T130000Z
DTEND:20260601T140000Z
LAST-MODIFIED:20260331T195840Z
CLASS:PUBLIC
SUMMARY:Continental Breakfast
DESCRIPTION:Breaks and Meals\n\n2026 ANS Annual Conference\n\nRead More: https://www.ans.org/meetings/ac2026/calendar/event-2032/\n\n<p>Start your day energized with a continental breakfast served each morning of the conference. Enjoy a selection of freshly baked pastries, fruit, coffee, and other light morning fare while mingling with fellow attendees before technical sessions and exhibit hours begin. It’s the perfect chance to fuel up and kick off each day’s discussions and discoveries in the nuclear industry.</p>
END:VEVENT
END:VCALENDAR
