BEGIN:VCALENDAR
VERSION:2.0
PRODID:-//ANS//Webinar//EN
BEGIN:VEVENT
UID:ANS_MEETING_EVENT_
DTSTAMP:20260424T095622Z
DTSTART:20260602T130000Z
DTEND:20260602T213000Z
LAST-MODIFIED:20260406T141618Z
CLASS:PUBLIC
SUMMARY:Exhibit Hall open from 7:00 am-3:30 pm
DESCRIPTION:Exhibit Hours\n\n2026 ANS Annual Conference\n\nRead More: https://www.ans.org/meetings/ac2026/calendar/event-2029/\n\n<p>The Expo Hall is a vibrant centerpiece of the ANS Annual Conference 2026, bringing together exhibitors, industry partners, technology leaders, and professionals from around the world. Spread across multiple days of the event, it offers attendees the chance to explore cutting‑edge innovations, engage directly with organizations shaping the future of nuclear science and technology, and learn about products, services, and research that are driving the industry forward. Whether you’re stopping by for a quick chat, discovering new tools and solutions, or making valuable connections outside of technical sessions and plenaries, the Expo Hall is where ideas meet opportunities throughout the conference.</p>
END:VEVENT
END:VCALENDAR
