BEGIN:VCALENDAR
VERSION:2.0
PRODID:-//ANS//Webinar//EN
BEGIN:VEVENT
UID:ANS_MEETING_EVENT_
DTSTAMP:20260424T084331Z
DTSTART:20260531T200000Z
DTEND:20260601T010000Z
LAST-MODIFIED:20260406T141630Z
CLASS:PUBLIC
SUMMARY:Registration/Help Desk open from 2:00-7:00 pm
DESCRIPTION:Registration/Help Desk Hours\n\n2026 ANS Annual Conference\n\nRead More: https://www.ans.org/meetings/ac2026/calendar/event-2024/\n\n<p>Stop by the Registration/Help Desk at the 2026 ANS Annual Conference for friendly, on-site assistance throughout the event. Whether you need to check in, pick up materials, update your registration details, or get directions and schedule information, our team is ready to help ensure your conference experience starts smoothly and stays stress-free.</p>
END:VEVENT
END:VCALENDAR
